BEGIN:VCALENDAR
VERSION:2.0
PRODID:-//Klub Dachsbracke - ECPv6.15.20//NONSGML v1.0//EN
CALSCALE:GREGORIAN
METHOD:PUBLISH
X-WR-CALNAME:Klub Dachsbracke
X-ORIGINAL-URL:https://www.klub-dachsbracke.com
X-WR-CALDESC:Veranstaltungen für Klub Dachsbracke
REFRESH-INTERVAL;VALUE=DURATION:PT1H
X-Robots-Tag:noindex
X-PUBLISHED-TTL:PT1H
BEGIN:VTIMEZONE
TZID:Europe/Vienna
BEGIN:DAYLIGHT
TZOFFSETFROM:+0100
TZOFFSETTO:+0200
TZNAME:CEST
DTSTART:20250330T010000
END:DAYLIGHT
BEGIN:STANDARD
TZOFFSETFROM:+0200
TZOFFSETTO:+0100
TZNAME:CET
DTSTART:20251026T010000
END:STANDARD
BEGIN:DAYLIGHT
TZOFFSETFROM:+0100
TZOFFSETTO:+0200
TZNAME:CEST
DTSTART:20260329T010000
END:DAYLIGHT
BEGIN:STANDARD
TZOFFSETFROM:+0200
TZOFFSETTO:+0100
TZNAME:CET
DTSTART:20261025T010000
END:STANDARD
BEGIN:DAYLIGHT
TZOFFSETFROM:+0100
TZOFFSETTO:+0200
TZNAME:CEST
DTSTART:20270328T010000
END:DAYLIGHT
BEGIN:STANDARD
TZOFFSETFROM:+0200
TZOFFSETTO:+0100
TZNAME:CET
DTSTART:20271031T010000
END:STANDARD
END:VTIMEZONE
BEGIN:VEVENT
DTSTART;TZID=Europe/Vienna:20260424T170000
DTEND;TZID=Europe/Vienna:20260426T170000
DTSTAMP:20260425T043303
CREATED:20260316T070445Z
LAST-MODIFIED:20260316T070445Z
UID:18941-1777050000-1777222800@www.klub-dachsbracke.com
SUMMARY:XV. Internationale Schweißprüfung für Alpenländische Dachsbracken Tschechien
DESCRIPTION:Der Tschechische Klub der Züchter des Alpenländischen Dachsbracken veranstaltet vom 24. bis 26. April 2026 die XV. Internationale Schweißprüfung für Alpenländische Dachsbracken in Deštné v Orlických horách (Adlergebirge)\, in den Revieren Uhřínov und Zdobnice. \nAm Freitag\, 24. April\, erfolgt die Anreise der Teilnehmer nach Schloss Rychnov nad Kněžnou mit offizieller Eröffnung\, Auslosung sowie anschließendem Transfer und Abendessen in der Pension „Kozí chlívek“. Am Samstag finden nach gemeinsamer Versammlung und Abfahrt ins Revier die eigentlichen Prüfungen statt\, mit feierlicher Ergebnisbekanntgabe und anschließendem gesellschaftlichen Abend in der Pension. \nStartberechtigt sind ausschließlich Alpenländische Dachsbracken; je Land können zwei Hundeführer gemeldet werden\, weitere Teilnehmer werden durch das Gastgeberland nominiert. Die Veranstaltung wird nach den gültigen Bestimmungen für internationale Schweißprüfungen für Alpenländische Dachsbracken durchgeführt.
URL:https://www.klub-dachsbracke.com/termin/xv-internationale-schweisspruefung-fuer-alpenlaendische-dachsbracken-tschechien/
LOCATION:Schloss Rychnov nad Kněžnou\, Rychnov nad Kněžnou\, 516 01
CATEGORIES:Internationaler Leistungsvergleich
ATTACH;FMTTYPE=image/png:https://www.klub-dachsbracke.com/wp-content/uploads/2017/03/klub_dachsbracke_logo_international.png
END:VEVENT
BEGIN:VEVENT
DTSTART;TZID=Europe/Vienna:20260425T080000
DTEND;TZID=Europe/Vienna:20260425T170000
DTSTAMP:20260425T043303
CREATED:20260315T184347Z
LAST-MODIFIED:20260315T185041Z
UID:18922-1777104000-1777136400@www.klub-dachsbracke.com
SUMMARY:Landestreffen Steiermark 2026
DESCRIPTION:Landestreffen der Landesgruppe Steiermark 2026\nIn einem geselligen Rahmen\, dient das jährliche Landestreffen dem Informations- und Erfahrungsaustausch. Die Einladung erfolgt durch den Landesleiter Steiermark.. \nHier finden Sie Berichte vergangener Landestreffen der Landesgruppe Steiermark.
URL:https://www.klub-dachsbracke.com/termin/landestreffen-steiermark-2026/
LOCATION:Turmwirt\, Turmgasse 2\, Kindberg - Mürzhofen\, Steiermark\, 8644\, Österreich
CATEGORIES:Landestreffen
ATTACH;FMTTYPE=image/png:https://www.klub-dachsbracke.com/wp-content/uploads/2017/03/klub_dachsbracke_logo_steiermark.png
ORGANIZER;CN="LL Robert Hafellner":MAILTO:robert@hafellner.at
END:VEVENT
END:VCALENDAR