BEGIN:VCALENDAR
VERSION:2.0
PRODID:-//Klub Dachsbracke - ECPv6.15.20//NONSGML v1.0//EN
CALSCALE:GREGORIAN
METHOD:PUBLISH
X-ORIGINAL-URL:https://www.klub-dachsbracke.com
X-WR-CALDESC:Veranstaltungen für Klub Dachsbracke
REFRESH-INTERVAL;VALUE=DURATION:PT1H
X-Robots-Tag:noindex
X-PUBLISHED-TTL:PT1H
BEGIN:VTIMEZONE
TZID:Europe/Vienna
BEGIN:DAYLIGHT
TZOFFSETFROM:+0100
TZOFFSETTO:+0200
TZNAME:CEST
DTSTART:20220327T010000
END:DAYLIGHT
BEGIN:STANDARD
TZOFFSETFROM:+0200
TZOFFSETTO:+0100
TZNAME:CET
DTSTART:20221030T010000
END:STANDARD
BEGIN:DAYLIGHT
TZOFFSETFROM:+0100
TZOFFSETTO:+0200
TZNAME:CEST
DTSTART:20230326T010000
END:DAYLIGHT
BEGIN:STANDARD
TZOFFSETFROM:+0200
TZOFFSETTO:+0100
TZNAME:CET
DTSTART:20231029T010000
END:STANDARD
BEGIN:DAYLIGHT
TZOFFSETFROM:+0100
TZOFFSETTO:+0200
TZNAME:CEST
DTSTART:20240331T010000
END:DAYLIGHT
BEGIN:STANDARD
TZOFFSETFROM:+0200
TZOFFSETTO:+0100
TZNAME:CET
DTSTART:20241027T010000
END:STANDARD
END:VTIMEZONE
BEGIN:VEVENT
DTSTART;TZID=Europe/Vienna:20230415T090000
DTEND;TZID=Europe/Vienna:20230415T150000
DTSTAMP:20260424T045254
CREATED:20230317T122057Z
LAST-MODIFIED:20230317T122403Z
UID:16636-1681549200-1681570800@www.klub-dachsbracke.com
SUMMARY:Landestreffen Tirol 2023
DESCRIPTION:Landestreffen der Landesgruppe Tirol 2023\nIn einem geselligen Rahmen\, dient das jährliche Landestreffen dem Informations- und Erfahrungsaustausch. Die Einladung erfolgt durch den Landesleiter Tirol.. \nHier finden Sie Berichte vergangener Landestreffen der Landesgruppe Tirol. \nSchweißsonderprüfung ~ Gert Dobrovolny Gedenkprüfung was last modified:  März 16th\, 2026 by
URL:https://www.klub-dachsbracke.com/termin/landestreffen-tirol-2023/
LOCATION:Rasmushof\, Hermann Reisch Weg 15\, Kitzbühel\, Tirol\, 6370\, Österreich
CATEGORIES:Landestreffen
ATTACH;FMTTYPE=image/png:https://www.klub-dachsbracke.com/wp-content/uploads/2017/03/klub_dachsbracke_logo_tirol.png
ORGANIZER;CN="LL Andreas Koidl":MAILTO:andreas.koidl@yahoo.com
END:VEVENT
BEGIN:VEVENT
DTSTART;TZID=Europe/Vienna:20230422T100000
DTEND;TZID=Europe/Vienna:20230422T170000
DTSTAMP:20260424T045254
CREATED:20230111T133851Z
LAST-MODIFIED:20230111T133851Z
UID:16430-1682157600-1682182800@www.klub-dachsbracke.com
SUMMARY:Landestreffen Wien/NÖ/Bgld. 2023
DESCRIPTION:Landestreffen der Landesgruppe Wien/NÖ/Bgld. 2023\nIn einem geselligen Rahmen\, dient das jährliche Landestreffen dem Informations- und Erfahrungsaustausch. Die Einladung erfolgt durch den Landesleiter Wien/Nö/Bgld.. \nHier finden Sie Berichte vergangener Landestreffen der Landesgruppe Wien/NÖ/Bgld. \nSchweißsonderprüfung ~ Gert Dobrovolny Gedenkprüfung was last modified:  März 16th\, 2026 by
URL:https://www.klub-dachsbracke.com/termin/landestreffen-wien-noe-bgld-2023/
LOCATION:Klostergasthof Heiligenkreuz\, Markgraf-Leopold-Platz 4\, Heiligenkreuz\, Niederösterreich\, 2532\, Österreich
CATEGORIES:Landestreffen
ATTACH;FMTTYPE=image/png:https://www.klub-dachsbracke.com/wp-content/uploads/2017/03/klub_dachsbracke_logo_w_n_b.png
ORGANIZER;CN="LL Of%C3%B6 Ing. Thomas Rupp":MAILTO:fb.sparbach@naturpark-sparbach.at
END:VEVENT
BEGIN:VEVENT
DTSTART;TZID=Europe/Vienna:20230422T140000
DTEND;TZID=Europe/Vienna:20230422T200000
DTSTAMP:20260424T045254
CREATED:20230114T100718Z
LAST-MODIFIED:20230114T100718Z
UID:16460-1682172000-1682193600@www.klub-dachsbracke.com
SUMMARY:Landestreffen Salzburg 2023
DESCRIPTION:Landestreffen der Landesgruppe Salzburg 2023\nIn einem geselligen Rahmen\, dient das jährliche Landestreffen dem Informations- und Erfahrungsaustausch. Die Einladung erfolgt durch den Landesleiter Salzburg.. \nHier finden Sie einige Berichte vergangener Landestreffen der Landesgruppe Salzburg. \nSchweißsonderprüfung ~ Gert Dobrovolny Gedenkprüfung was last modified:  März 16th\, 2026 by
URL:https://www.klub-dachsbracke.com/termin/landestreffen-salzburg-2023/
LOCATION:Reitsamerhof\, Reitsam 22\, Werfen-Imlau\, Salzburg\, 5450\, Österreich
CATEGORIES:Landestreffen
ATTACH;FMTTYPE=image/png:https://www.klub-dachsbracke.com/wp-content/uploads/2017/03/klub_dachsbracke_logo_salzburg.png
ORGANIZER;CN="LL Hans Fercher":MAILTO:hans.fercher1@gmail.com
END:VEVENT
BEGIN:VEVENT
DTSTART;TZID=Europe/Vienna:20230429T100000
DTEND;TZID=Europe/Vienna:20230429T140000
DTSTAMP:20260424T045254
CREATED:20230114T104622Z
LAST-MODIFIED:20230114T104622Z
UID:16464-1682762400-1682776800@www.klub-dachsbracke.com
SUMMARY:Landestreffen Steiermark 2023
DESCRIPTION:Landestreffen der Landesgruppe Steiermark 2023\nIn einem geselligen Rahmen\, dient das jährliche Landestreffen dem Informations- und Erfahrungsaustausch. Die Einladung erfolgt durch den Landesleiter Steiermark.. \nHier finden Sie Berichte vergangener Landestreffen der Landesgruppe Steiermark. \nSchweißsonderprüfung ~ Gert Dobrovolny Gedenkprüfung was last modified:  März 16th\, 2026 by
URL:https://www.klub-dachsbracke.com/termin/landestreffen-steiermark-2023/
LOCATION:Turmwirt\, Turmgasse 2\, Kindberg - Mürzhofen\, Steiermark\, 8644\, Österreich
CATEGORIES:Landestreffen
ATTACH;FMTTYPE=image/png:https://www.klub-dachsbracke.com/wp-content/uploads/2017/03/klub_dachsbracke_logo_steiermark.png
ORGANIZER;CN="LL Robert Hafellner":MAILTO:robert@hafellner.at
END:VEVENT
END:VCALENDAR