BEGIN:VCALENDAR
VERSION:2.0
PRODID:-//Klub Dachsbracke - ECPv6.15.20//NONSGML v1.0//EN
CALSCALE:GREGORIAN
METHOD:PUBLISH
X-ORIGINAL-URL:https://www.klub-dachsbracke.com
X-WR-CALDESC:Veranstaltungen für Klub Dachsbracke
REFRESH-INTERVAL;VALUE=DURATION:PT1H
X-Robots-Tag:noindex
X-PUBLISHED-TTL:PT1H
BEGIN:VTIMEZONE
TZID:Europe/Vienna
BEGIN:DAYLIGHT
TZOFFSETFROM:+0100
TZOFFSETTO:+0200
TZNAME:CEST
DTSTART:20220327T010000
END:DAYLIGHT
BEGIN:STANDARD
TZOFFSETFROM:+0200
TZOFFSETTO:+0100
TZNAME:CET
DTSTART:20221030T010000
END:STANDARD
BEGIN:DAYLIGHT
TZOFFSETFROM:+0100
TZOFFSETTO:+0200
TZNAME:CEST
DTSTART:20230326T010000
END:DAYLIGHT
BEGIN:STANDARD
TZOFFSETFROM:+0200
TZOFFSETTO:+0100
TZNAME:CET
DTSTART:20231029T010000
END:STANDARD
BEGIN:DAYLIGHT
TZOFFSETFROM:+0100
TZOFFSETTO:+0200
TZNAME:CEST
DTSTART:20240331T010000
END:DAYLIGHT
BEGIN:STANDARD
TZOFFSETFROM:+0200
TZOFFSETTO:+0100
TZNAME:CET
DTSTART:20241027T010000
END:STANDARD
END:VTIMEZONE
BEGIN:VEVENT
DTSTART;VALUE=DATE:20230501
DTEND;VALUE=DATE:20230503
DTSTAMP:20260424T064001
CREATED:20230424T141616Z
LAST-MODIFIED:20230424T141616Z
UID:16795-1682902800-1682989199@www.klub-dachsbracke.com
SUMMARY:Landestreffen Kärnten 2023
DESCRIPTION:Landestreffen der Landesgruppe Kärnten 2023\nIn einem geselligen Rahmen\, dient das jährliche Landestreffen dem Informations- und Erfahrungsaustausch. Die Einladung erfolgt durch den Landesleiter Kärnten.. \nHier finden Sie Berichte vergangener Landestreffen der Landesgruppe Kärnten. \nSchweißsonderprüfung ~ Gert Dobrovolny Gedenkprüfung was last modified:  März 16th\, 2026 by
URL:https://www.klub-dachsbracke.com/termin/landestreffen-kaernten-2023/
LOCATION:Schloss Mageregg\, Mageregger Str. 175\, Klagenfurt\, Kärnten\, 9020\, Österreich
CATEGORIES:Landestreffen
ATTACH;FMTTYPE=image/png:https://www.klub-dachsbracke.com/wp-content/uploads/2017/03/klub_dachsbracke_logo_kaernten.png
ORGANIZER;CN="LL Alfred Rieder":MAILTO:rieder63alfred@gmail.com
END:VEVENT
BEGIN:VEVENT
DTSTART;TZID=Europe/Vienna:20230506T140000
DTEND;TZID=Europe/Vienna:20230506T180000
DTSTAMP:20260424T064001
CREATED:20230115T161504Z
LAST-MODIFIED:20230115T161504Z
UID:16474-1683381600-1683396000@www.klub-dachsbracke.com
SUMMARY:Start Hundeführerlehrgang 2023
DESCRIPTION:Start des  Hundeführerlehrganges mit Meisterführer Harald Heil! \nWeitere Informationen unter Hundeführerlehrgang für Klubmitglieder 2023 \nSchweißsonderprüfung ~ Gert Dobrovolny Gedenkprüfung was last modified:  März 16th\, 2026 by
URL:https://www.klub-dachsbracke.com/termin/start-hundefuehrerlehrgang-2023/
LOCATION:Mariazell\, Mariazell\, Steiermark\, 8630\, Österreich
CATEGORIES:Schulung
ATTACH;FMTTYPE=image/png:https://www.klub-dachsbracke.com/wp-content/uploads/2017/03/klub_dachsbracke_logo_oesterreich.png
ORGANIZER;CN="Mf Harald Heil":MAILTO:harald.heil@sbm-web.at
END:VEVENT
END:VCALENDAR