BEGIN:VCALENDAR
VERSION:2.0
PRODID:-//Klub Dachsbracke - ECPv6.15.20//NONSGML v1.0//EN
CALSCALE:GREGORIAN
METHOD:PUBLISH
X-WR-CALNAME:Klub Dachsbracke
X-ORIGINAL-URL:https://www.klub-dachsbracke.com
X-WR-CALDESC:Veranstaltungen für Klub Dachsbracke
REFRESH-INTERVAL;VALUE=DURATION:PT1H
X-Robots-Tag:noindex
X-PUBLISHED-TTL:PT1H
BEGIN:VTIMEZONE
TZID:Europe/Vienna
BEGIN:DAYLIGHT
TZOFFSETFROM:+0100
TZOFFSETTO:+0200
TZNAME:CEST
DTSTART:20220327T010000
END:DAYLIGHT
BEGIN:STANDARD
TZOFFSETFROM:+0200
TZOFFSETTO:+0100
TZNAME:CET
DTSTART:20221030T010000
END:STANDARD
BEGIN:DAYLIGHT
TZOFFSETFROM:+0100
TZOFFSETTO:+0200
TZNAME:CEST
DTSTART:20230326T010000
END:DAYLIGHT
BEGIN:STANDARD
TZOFFSETFROM:+0200
TZOFFSETTO:+0100
TZNAME:CET
DTSTART:20231029T010000
END:STANDARD
BEGIN:DAYLIGHT
TZOFFSETFROM:+0100
TZOFFSETTO:+0200
TZNAME:CEST
DTSTART:20240331T010000
END:DAYLIGHT
BEGIN:STANDARD
TZOFFSETFROM:+0200
TZOFFSETTO:+0100
TZNAME:CET
DTSTART:20241027T010000
END:STANDARD
END:VTIMEZONE
BEGIN:VEVENT
DTSTART;VALUE=DATE:20230902
DTEND;VALUE=DATE:20230904
DTSTAMP:20260424T141526
CREATED:20230516T125742Z
LAST-MODIFIED:20230516T125838Z
UID:16890-1693616400-1693702799@www.klub-dachsbracke.com
SUMMARY:Internationale Zuchtschau in Sväti Anton
DESCRIPTION:Interessenten werden gebeten sich mit unserem Obmann in Verbindung zu setzen. \nSchweißsonderprüfung ~ Gert Dobrovolny Gedenkprüfung was last modified:  März 16th\, 2026 by
URL:https://www.klub-dachsbracke.com/termin/internationale-zuchtschau-in-svaeti-anton/
LOCATION:Steiermark
CATEGORIES:Ausstellung
ATTACH;FMTTYPE=image/png:https://www.klub-dachsbracke.com/wp-content/uploads/2017/03/klub_dachsbracke_logo_international.png
END:VEVENT
BEGIN:VEVENT
DTSTART;VALUE=DATE:20230908
DTEND;VALUE=DATE:20230912
DTSTAMP:20260424T141527
CREATED:20230516T130634Z
LAST-MODIFIED:20230516T130751Z
UID:16895-1694134800-1694393999@www.klub-dachsbracke.com
SUMMARY:Internationaler Leistungsvergleich in Polen
DESCRIPTION:Der Klub Alpenländische Dachsbracke des polnischen Jagdverbandes (Klub Alpejskiego Gończego Krótkonożnego Polskiego Związku Łowieckiego) lädt herzlichst zur Internationalen Alpenländische Dachsbracke Prüfung nach Polen ein (8. – 10. September 2023). \nJeder Verein aus Europa kann einen Hund entsenden. \nInteressenten werden gebeten sich mit unserem Obmann in Verbindung zu setzen. \nSchweißsonderprüfung ~ Gert Dobrovolny Gedenkprüfung was last modified:  März 16th\, 2026 by
URL:https://www.klub-dachsbracke.com/termin/internationaler-leistungsvergleich-in-polen/
LOCATION:Steiermark
CATEGORIES:Prüfung
ATTACH;FMTTYPE=image/png:https://www.klub-dachsbracke.com/wp-content/uploads/2017/03/klub_dachsbracke_logo_international.png
END:VEVENT
END:VCALENDAR