BEGIN:VCALENDAR
VERSION:2.0
PRODID:-//Klub Dachsbracke - ECPv6.15.20//NONSGML v1.0//EN
CALSCALE:GREGORIAN
METHOD:PUBLISH
X-WR-CALNAME:Klub Dachsbracke
X-ORIGINAL-URL:https://www.klub-dachsbracke.com
X-WR-CALDESC:Veranstaltungen für Klub Dachsbracke
REFRESH-INTERVAL;VALUE=DURATION:PT1H
X-Robots-Tag:noindex
X-PUBLISHED-TTL:PT1H
BEGIN:VTIMEZONE
TZID:Europe/Vienna
BEGIN:DAYLIGHT
TZOFFSETFROM:+0100
TZOFFSETTO:+0200
TZNAME:CEST
DTSTART:20220327T010000
END:DAYLIGHT
BEGIN:STANDARD
TZOFFSETFROM:+0200
TZOFFSETTO:+0100
TZNAME:CET
DTSTART:20221030T010000
END:STANDARD
BEGIN:DAYLIGHT
TZOFFSETFROM:+0100
TZOFFSETTO:+0200
TZNAME:CEST
DTSTART:20230326T010000
END:DAYLIGHT
BEGIN:STANDARD
TZOFFSETFROM:+0200
TZOFFSETTO:+0100
TZNAME:CET
DTSTART:20231029T010000
END:STANDARD
BEGIN:DAYLIGHT
TZOFFSETFROM:+0100
TZOFFSETTO:+0200
TZNAME:CEST
DTSTART:20240331T010000
END:DAYLIGHT
BEGIN:STANDARD
TZOFFSETFROM:+0200
TZOFFSETTO:+0100
TZNAME:CET
DTSTART:20241027T010000
END:STANDARD
END:VTIMEZONE
BEGIN:VEVENT
DTSTART;VALUE=DATE:20231006
DTEND;VALUE=DATE:20231009
DTSTAMP:20260424T161112
CREATED:20230114T102335Z
LAST-MODIFIED:20230114T102335Z
UID:16462-1696554000-1696726799@www.klub-dachsbracke.com
SUMMARY:Jagdhunde Gebrauchsprüfung Salzburg 2023
DESCRIPTION:Die Einladung für die Gebrauchsprüfung in Salzburg 2023 erfolgt durch den Landesleiter.\nDie Prüfung wird in Zusammenarbeit mit dem Österreichischen Jagdgebrauchshunde-Verband (ÖJGV) durchgeführt. Die Ergebnisse werden in der Datenbank des ÖJGV\, im digitalen Jagdhund erfasst. Zugelassen sind nur Alpenländische Dachsbracken\, die in einem anerkannten Zuchtbuch eingetragen und mindestens 16 Monate alt sind. \nDie Jagdhunde werden nach der aktuellen Prüfungsordnung geprüft. Folgende Fächer werden bewertet: \n\nSchweißarbeit (Riemenarbeit\, Verhalten beim erlegten Wild\, Hatz und Bail bei Gelegenheit)\nLaute Jagd (Art der Suche\, Halten der Spur\, Spurlaut)\nWesensfestigkeit (Verteidigung und Wachsamkeit)\nRevierführigkeit (Führigkeit\, Gehorsam\, Verhalten auf Schuss\, Ablegen)\nFreie Prüfungsfächer (Apportieren/Verlorensuchen\, Totverweisen/Totverbellen\, Eignung auf Schwarzwild)\n\nInteressenten\, die ihre Hunde für diese Prüfung anmelden möchten\, können dies bei unserem Landesleiter für Salzburg tun. \nHier finden Sie Berichte vergangener Gebrauchsprüfungen der Landesgruppe Salzburg. \nSchweißsonderprüfung ~ Gert Dobrovolny Gedenkprüfung was last modified:  März 16th\, 2026 by
URL:https://www.klub-dachsbracke.com/termin/jagdhunde-gebrauchspruefung-salzburg-2023/
LOCATION:Salzburg\, Salzburg\, Österreich
CATEGORIES:Gebrauchsprüfung
ATTACH;FMTTYPE=image/png:https://www.klub-dachsbracke.com/wp-content/uploads/2017/03/klub_dachsbracke_und_oejgv_logo.png
ORGANIZER;CN="LL Hans Fercher":MAILTO:hans.fercher1@gmail.com
END:VEVENT
BEGIN:VEVENT
DTSTART;VALUE=DATE:20231014
DTEND;VALUE=DATE:20231017
DTSTAMP:20260424T161112
CREATED:20230114T105228Z
LAST-MODIFIED:20230114T105228Z
UID:16466-1697245200-1697417999@www.klub-dachsbracke.com
SUMMARY:Jagdhunde Gebrauchsprüfung Steiermark 2023
DESCRIPTION:Die Einladung für die Gebrauchsprüfung in der Steiermark 2023 erfolgt durch den Landesleiter.\nDie Prüfung wird in Zusammenarbeit mit dem Österreichischen Jagdgebrauchshunde-Verband (ÖJGV) durchgeführt. Die Ergebnisse werden in der Datenbank des ÖJGV\, im digitalen Jagdhund erfasst. Zugelassen sind nur Alpenländische Dachsbracken\, die in einem anerkannten Zuchtbuch eingetragen und mindestens 16 Monate alt sind. \nDie Jagdhunde werden nach der aktuellen Prüfungsordnung geprüft. Folgende Fächer werden bewertet: \n\nSchweißarbeit (Riemenarbeit\, Verhalten beim erlegten Wild\, Hatz und Bail bei Gelegenheit)\nLaute Jagd (Art der Suche\, Halten der Spur\, Spurlaut)\nWesensfestigkeit (Verteidigung und Wachsamkeit)\nRevierführigkeit (Führigkeit\, Gehorsam\, Verhalten auf Schuss\, Ablegen)\nFreie Prüfungsfächer (Apportieren/Verlorensuchen\, Totverweisen/Totverbellen\, Eignung auf Schwarzwild)\n\nInteressenten\, die ihre Hunde für diese Prüfung anmelden möchten\, können dies bei unserem Landesleiter für die Steiermark tun. \nHier finden Sie Berichte vergangener Gebrauchsprüfungen der Landesgruppe Steiermark. \nSchweißsonderprüfung ~ Gert Dobrovolny Gedenkprüfung was last modified:  März 16th\, 2026 by
URL:https://www.klub-dachsbracke.com/termin/jagdhunde-gebrauchspruefung-steiermark-2023/
LOCATION:Steiermark\, Steiermark\, Österreich
CATEGORIES:Gebrauchsprüfung
ATTACH;FMTTYPE=image/png:https://www.klub-dachsbracke.com/wp-content/uploads/2017/03/klub_dachsbracke_und_oejgv_logo.png
ORGANIZER;CN="LL Robert Hafellner":MAILTO:robert@hafellner.at
END:VEVENT
BEGIN:VEVENT
DTSTART;VALUE=DATE:20231020
DTEND;VALUE=DATE:20231024
DTSTAMP:20260424T161112
CREATED:20230111T134256Z
LAST-MODIFIED:20230111T134628Z
UID:16432-1697763600-1698022799@www.klub-dachsbracke.com
SUMMARY:Jagdhunde Gebrauchsprüfung Wien/NÖ/Bgld. 2023
DESCRIPTION:Die Einladung für die Gebrauchsprüfung der Landesgruppe Wien/NÖ/Bgld. 2023 erfolgt durch den Landesleiter.\nDie Prüfung wird in Zusammenarbeit mit dem Österreichischen Jagdgebrauchshunde-Verband (ÖJGV) durchgeführt. Die Ergebnisse werden in der Datenbank des ÖJGV\, im digitalen Jagdhund erfasst. Zugelassen sind nur Alpenländische Dachsbracken\, die in einem anerkannten Zuchtbuch eingetragen und mindestens 16 Monate alt sind. \nDie Jagdhunde werden nach der aktuellen Prüfungsordnung geprüft. Folgende Fächer werden bewertet: \n\nSchweißarbeit (Riemenarbeit\, Verhalten beim erlegten Wild\, Hatz und Bail bei Gelegenheit)\nLaute Jagd (Art der Suche\, Halten der Spur\, Spurlaut)\nWesensfestigkeit (Verteidigung und Wachsamkeit)\nRevierführigkeit (Führigkeit\, Gehorsam\, Verhalten auf Schuss\, Ablegen)\nFreie Prüfungsfächer (Apportieren/Verlorensuchen\, Totverweisen/Totverbellen\, Eignung auf Schwarzwild)\n\nInteressenten\, die ihre Hunde für diese Prüfung anmelden möchten\, können dies bei unserem Landesleiter für Wien/NÖ/Bgld. tun. \nHier finden Sie Berichte vergangener Gebrauchsprüfungen der Landesgruppe Wien/NÖ/Bgld. \nSchweißsonderprüfung ~ Gert Dobrovolny Gedenkprüfung was last modified:  März 16th\, 2026 by
URL:https://www.klub-dachsbracke.com/termin/jagdhunde-gebrauchspruefung-wien-noe-bgld-2023/
LOCATION:Niederösterreich\, Niederösterreich\, Österreich
CATEGORIES:Gebrauchsprüfung
ATTACH;FMTTYPE=image/png:https://www.klub-dachsbracke.com/wp-content/uploads/2017/03/klub_dachsbracke_und_oejgv_logo.png
ORGANIZER;CN="LL Of%C3%B6 Ing. Thomas Rupp":MAILTO:fb.sparbach@naturpark-sparbach.at
END:VEVENT
BEGIN:VEVENT
DTSTART;VALUE=DATE:20231020
DTEND;VALUE=DATE:20231023
DTSTAMP:20260424T161112
CREATED:20230809T190748Z
LAST-MODIFIED:20230809T190748Z
UID:17067-1697763600-1697936399@www.klub-dachsbracke.com
SUMMARY:Jagdhunde Gebrauchsprüfung Tirol (Nordtirol) 2023
DESCRIPTION:Die Einladung für die Gebrauchsprüfung in Tirol im Oktober 2023 erfolgt durch den Landesleiter.\nDie Prüfung wird in Zusammenarbeit mit dem Österreichischen Jagdgebrauchshunde-Verband (ÖJGV) durchgeführt. Die Ergebnisse werden in der Datenbank des ÖJGV\, im digitalen Jagdhund erfasst. Zugelassen sind nur Alpenländische Dachsbracken\, die in einem anerkannten Zuchtbuch eingetragen und mindestens 16 Monate alt sind. \nDie Jagdhunde werden nach der aktuellen Prüfungsordnung geprüft. Folgende Fächer werden bewertet: \n\nSchweißarbeit (Riemenarbeit\, Verhalten beim erlegten Wild\, Hatz und Bail bei Gelegenheit)\nLaute Jagd (Art der Suche\, Halten der Spur\, Spurlaut)\nWesensfestigkeit (Verteidigung und Wachsamkeit)\nRevierführigkeit (Führigkeit\, Gehorsam\, Verhalten auf Schuss\, Ablegen)\nFreie Prüfungsfächer (Apportieren/Verlorensuchen\, Totverweisen/Totverbellen\, Eignung auf Schwarzwild)\n\nInteressenten\, die ihre Hunde für diese Prüfung anmelden möchten\, können dies bei unserem Landesleiter für Tirol tun. \nHier finden Sie Berichte vergangener Gebrauchsprüfungen der Landesgruppe Tirol. \nSchweißsonderprüfung ~ Gert Dobrovolny Gedenkprüfung was last modified:  März 16th\, 2026 by
URL:https://www.klub-dachsbracke.com/termin/jagdhunde-gebrauchspruefung-tirol-nordtirol-2023/
LOCATION:Tirol\, Tirol\, Österreich
CATEGORIES:Gebrauchsprüfung
ATTACH;FMTTYPE=image/png:https://www.klub-dachsbracke.com/wp-content/uploads/2017/03/klub_dachsbracke_logo_tirol.png
ORGANIZER;CN="LL Andreas Koidl":MAILTO:andreas.koidl@yahoo.com
END:VEVENT
END:VCALENDAR