BEGIN:VCALENDAR
VERSION:2.0
PRODID:-//Klub Dachsbracke - ECPv6.15.20//NONSGML v1.0//EN
CALSCALE:GREGORIAN
METHOD:PUBLISH
X-ORIGINAL-URL:https://www.klub-dachsbracke.com
X-WR-CALDESC:Veranstaltungen für Klub Dachsbracke
REFRESH-INTERVAL;VALUE=DURATION:PT1H
X-Robots-Tag:noindex
X-PUBLISHED-TTL:PT1H
BEGIN:VTIMEZONE
TZID:Europe/Vienna
BEGIN:DAYLIGHT
TZOFFSETFROM:+0100
TZOFFSETTO:+0200
TZNAME:CEST
DTSTART:20220327T010000
END:DAYLIGHT
BEGIN:STANDARD
TZOFFSETFROM:+0200
TZOFFSETTO:+0100
TZNAME:CET
DTSTART:20221030T010000
END:STANDARD
BEGIN:DAYLIGHT
TZOFFSETFROM:+0100
TZOFFSETTO:+0200
TZNAME:CEST
DTSTART:20230326T010000
END:DAYLIGHT
BEGIN:STANDARD
TZOFFSETFROM:+0200
TZOFFSETTO:+0100
TZNAME:CET
DTSTART:20231029T010000
END:STANDARD
BEGIN:DAYLIGHT
TZOFFSETFROM:+0100
TZOFFSETTO:+0200
TZNAME:CEST
DTSTART:20240331T010000
END:DAYLIGHT
BEGIN:STANDARD
TZOFFSETFROM:+0200
TZOFFSETTO:+0100
TZNAME:CET
DTSTART:20241027T010000
END:STANDARD
END:VTIMEZONE
BEGIN:VEVENT
DTSTART;VALUE=DATE:20231103
DTEND;VALUE=DATE:20231106
DTSTAMP:20260424T180343
CREATED:20230809T191246Z
LAST-MODIFIED:20230809T191246Z
UID:17069-1698973200-1699145999@www.klub-dachsbracke.com
SUMMARY:Jagdhunde Gebrauchsprüfung Tirol (Osttirol) 2023
DESCRIPTION:Die Einladung für die Gebrauchsprüfung in Tirol im November 2023 erfolgt durch den Landesleiter.\nDie Prüfung wird in Zusammenarbeit mit dem Österreichischen Jagdgebrauchshunde-Verband (ÖJGV) durchgeführt. Die Ergebnisse werden in der Datenbank des ÖJGV\, im digitalen Jagdhund erfasst. Zugelassen sind nur Alpenländische Dachsbracken\, die in einem anerkannten Zuchtbuch eingetragen und mindestens 16 Monate alt sind. \nDie Jagdhunde werden nach der aktuellen Prüfungsordnung geprüft. Folgende Fächer werden bewertet: \n\nSchweißarbeit (Riemenarbeit\, Verhalten beim erlegten Wild\, Hatz und Bail bei Gelegenheit)\nLaute Jagd (Art der Suche\, Halten der Spur\, Spurlaut)\nWesensfestigkeit (Verteidigung und Wachsamkeit)\nRevierführigkeit (Führigkeit\, Gehorsam\, Verhalten auf Schuss\, Ablegen)\nFreie Prüfungsfächer (Apportieren/Verlorensuchen\, Totverweisen/Totverbellen\, Eignung auf Schwarzwild)\n\nInteressenten\, die ihre Hunde für diese Prüfung anmelden möchten\, können dies bei unserem Landesleiter für Tirol tun. \nHier finden Sie Berichte vergangener Gebrauchsprüfungen der Landesgruppe Tirol. \nSchweißsonderprüfung ~ Gert Dobrovolny Gedenkprüfung was last modified:  März 16th\, 2026 by
URL:https://www.klub-dachsbracke.com/termin/jagdhunde-gebrauchspruefung-tirol-osttirol-2023/
LOCATION:Tirol\, Tirol\, Österreich
CATEGORIES:Gebrauchsprüfung
ATTACH;FMTTYPE=image/png:https://www.klub-dachsbracke.com/wp-content/uploads/2017/03/klub_dachsbracke_logo_tirol.png
ORGANIZER;CN="LL Andreas Koidl":MAILTO:andreas.koidl@yahoo.com
END:VEVENT
BEGIN:VEVENT
DTSTART;VALUE=DATE:20231117
DTEND;VALUE=DATE:20231121
DTSTAMP:20260424T180343
CREATED:20230516T124501Z
LAST-MODIFIED:20230516T124501Z
UID:16887-1700182800-1700441999@www.klub-dachsbracke.com
SUMMARY:POHÁR GUSTAVA KOŘÍNKA Prüfung 2023
DESCRIPTION:Die internationale Jagdhundeprüfung für Alpenländische Dachsbracken mit CACIT-Vergabe\, die POHÁR GUSTAVA KOŘÍNKA 2023.\nDie Prüfung stellt seit Jahren eine beispiellose Erfahrung für jeden Hundeführer dar\, der Willens ist\, sich dieser Herausforderung zu stellen. Interessenten werden gebeten sich mit unserem Obmann in Verbindung zu setzen. \nHier finden Sie den Bericht der internationalen Jagdhundeprüfung Gustavo Korinka 2019. \nSchweißsonderprüfung ~ Gert Dobrovolny Gedenkprüfung was last modified:  März 16th\, 2026 by
URL:https://www.klub-dachsbracke.com/termin/pohar-gustava-korinka-pruefung-2023/
LOCATION:Steiermark
CATEGORIES:Prüfung
ATTACH;FMTTYPE=image/png:https://www.klub-dachsbracke.com/wp-content/uploads/2017/03/klub_dachsbracke_logo_international.png
END:VEVENT
END:VCALENDAR